BEGIN:VCALENDAR
VERSION:2.0
PRODID:-//Kalender-Script//NONSGML Cal V.3//EN
CALSCALE:GREGORIAN
METHOD:PUBLISH
X-WR-CALNAME:Termin_470
X-WR-TIMEZONE:Europe/Berlin
BEGIN:VTIMEZONE
TZID:Europe/Berlin
X-LIC-LOCATION:Europe/Berlin
BEGIN:DAYLIGHT
TZOFFSETFROM:+0100
TZOFFSETTO:+0200
DTSTART:19700329T020000
RRULE:FREQ=YEARLY;INTERVAL=1;BYDAY=-1SU;BYMONTH=3
TZNAME:CEST
END:DAYLIGHT
BEGIN:STANDARD
TZOFFSETFROM:+0200
TZOFFSETTO:+0100
DTSTART:19701025T030000
RRULE:FREQ=YEARLY;INTERVAL=1;BYDAY=-1SU;BYMONTH=10
TZNAME:CET
END:STANDARD
END:VTIMEZONE
BEGIN:VEVENT
UID:termin_470@dvdb-online.de
CLASS:PUBLIC
DTSTART;TZID=Europe/Berlin:20260620T113000
DTEND;TZID=Europe/Berlin:20260620T130000
DTSTAMP:20260419T163400Z
SUMMARY:Musikalisches Marktfrühstück mit Men in Blue
DESCRIPTION:Men in Blue, die Brass Band des Landespolizeiorchesters Rheinland-Pfalz\n\nhttps://dvdb-online.de/kalender/kalender.php?kal_Aktion=detail&amp;kal_Intervall=%5B%5D&amp;kal_Nummer=470
LOCATION:Auf dem Römer, 55599 Gau-Bickelheim
URL;VALUE=URI:https://dvdb-online.de/kalender/kalender.php?kal_Aktion=detail&amp;kal_Intervall=%5B%5D&amp;kal_Nummer=470
END:VEVENT
END:VCALENDAR
