BEGIN:VCALENDAR
VERSION:2.0
PRODID:-//Kalender-Script//NONSGML Cal V.3//EN
CALSCALE:GREGORIAN
METHOD:PUBLISH
X-WR-CALNAME:Termin_454
X-WR-TIMEZONE:Europe/Berlin
BEGIN:VTIMEZONE
TZID:Europe/Berlin
X-LIC-LOCATION:Europe/Berlin
BEGIN:DAYLIGHT
TZOFFSETFROM:+0100
TZOFFSETTO:+0200
DTSTART:19700329T020000
RRULE:FREQ=YEARLY;INTERVAL=1;BYDAY=-1SU;BYMONTH=3
TZNAME:CEST
END:DAYLIGHT
BEGIN:STANDARD
TZOFFSETFROM:+0200
TZOFFSETTO:+0100
DTSTART:19701025T030000
RRULE:FREQ=YEARLY;INTERVAL=1;BYDAY=-1SU;BYMONTH=10
TZNAME:CET
END:STANDARD
END:VTIMEZONE
BEGIN:VEVENT
UID:termin_454@dvdb-online.de
CLASS:PUBLIC
DTSTART;TZID=Europe/Berlin:20260422T193000
DTEND;TZID=Europe/Berlin:20260422T220000
DTSTAMP:20260419T170000Z
SUMMARY:Benefizkonzert Heeresmusikkorps Koblenz - 150 Jahre Katholische Kirchenmusik St. Martin 1876 Bingen am Rhein -
DESCRIPTION:Das Heeresmusikkorps Koblenz spielt anlässlich des 150-jährigen Bestehens der Katholischen Kirchenmusik St. Martin 1876 Bingen am Rhein ein Benefizkonzert\n\nhttps://dvdb-online.de/kalender/kalender.php?kal_Aktion=detail&amp;kal_Intervall=%5B%5D&amp;kal_Nummer=454
LOCATION:Bingen am Rhein
GEO:49.96953793489705;7.891498804092408
URL;VALUE=URI:https://dvdb-online.de/kalender/kalender.php?kal_Aktion=detail&amp;kal_Intervall=%5B%5D&amp;kal_Nummer=454
END:VEVENT
END:VCALENDAR
